BEGIN:VCALENDAR
VERSION:2.0
PRODID:-//VAESA - ECPv4.7.4//NONSGML v1.0//EN
CALSCALE:GREGORIAN
METHOD:PUBLISH
X-WR-CALNAME:VAESA
X-ORIGINAL-URL:https://www.vaesa.com.au
X-WR-CALDESC:Events for VAESA
BEGIN:VEVENT
DTSTART;TZID=Australia/Adelaide:20190403T093000
DTEND;TZID=Australia/Adelaide:20190403T153000
DTSTAMP:20190228T032141
CREATED:20190206T011321Z
LAST-MODIFIED:20190206T011321Z
UID:16351-1554283800-1554305400@www.vaesa.com.au
SUMMARY:Year 12 Art/Design Student Forum
DESCRIPTION:The Forum is aimed at providing current year 12 Visual Arts and Design students with first-hand information about what to expect in the subject through presentations and Q and A sessions with successful students from previous years. \nTeachers and students can choose between 3 sessions. Please choose only 1. \nSession 1: 9:30 until 11am \nSession 2: 11:30 until 1pm \nSession 3 : 2pm until 3:30pm \nIn 2019 the Forum has had a change of venue and will be held at Adelaide City TAFE\, directly across from Light Square Gallery and SACE Art Show. \nTickets are $4.25 for students and $11.64 for Educators/Guardians. To make a booking please visit the EventBrite page. \n
URL:https://www.vaesa.com.au/event/year-12-art-design-student-forum/
LOCATION:TAFE SA Adelaide City\, 39 Light Square\, Adelaide CBD\, South Australia\, 5000\, Australia
ORGANIZER;CN="Visual%20Arts%20Educators%20South%20Australia":MAILTO:hello@vaesa.com.au
END:VEVENT
END:VCALENDAR