BEGIN:VCALENDAR
VERSION:2.0
PRODID:-//VAESA - ECPv4.7.4//NONSGML v1.0//EN
CALSCALE:GREGORIAN
METHOD:PUBLISH
X-WR-CALNAME:VAESA
X-ORIGINAL-URL:https://www.vaesa.com.au
X-WR-CALDESC:Events for VAESA
BEGIN:VEVENT
DTSTART;TZID=Australia/Adelaide:20190204T183000
DTEND;TZID=Australia/Adelaide:20190204T203000
DTSTAMP:20190228T031551
CREATED:20190116T045605Z
LAST-MODIFIED:20190121T230802Z
UID:16335-1549305000-1549312200@www.vaesa.com.au
SUMMARY:Committee Meeting
DESCRIPTION:First VAESA committee meeting for 2019! All members are welcome to attend. \nMeeting begins at 6.30pm at the Education Development Centre (EDC)\, situated on Milner Street\, Hindmarsh. Parking spots are limited\, but free parking is available 50m away from venue on Orsmond Street. \nPlease RSVP to Noeleen Curran (secretary@vaesa.com.au) if you plan to attend. We would love to see you there. \n  \n
URL:https://www.vaesa.com.au/event/committee-meeting-3/
LOCATION:Education Development Centre\, 4 Milner St\, Hindmarsh\, Adelaide\, South Australia\, 5007\, Australia
ORGANIZER;CN="Visual%20Arts%20Educators%20South%20Australia":MAILTO:hello@vaesa.com.au
END:VEVENT
END:VCALENDAR